BEGIN:VCALENDAR
VERSION:2.0
PRODID:-//hacksw/handcal//NONSGML v1.0//EN
CALSCALE:GREGORIAN
BEGIN:VTIMEZONE
TZID:America/New_York
BEGIN:DAYLIGHT
TZOFFSETFROM:-0600
TZNAME:MDT
TZOFFSETTO:-0600
END:DAYLIGHT
END:VTIMEZONE
DTSTAMP:20260419T085953Z
UID:69e4d1c9b0f03
BEGIN:VEVENT
LOCATION:Clarksburg-Harrison Public Library, 404 W. Pike St., Clarksburg, WV 26301
DESCRIPTION:<p>The Clarksburg-Harrison Public Library Board of Trustees consists of 5 members appointed by the Clarksburg City Council, Harrison County Commission, and the Harrison County Board of Education. Meetings are open to the public. Dates are tentative. Meetings are held in the upstairs meeting room.</p>

DTSTART;TZID=America/New_York:20260219T090000
DTEND;TZID=America/New_York:20260219T110000
SUMMARY:Board of Trustees Meeting
URL;VALUE=URI:/board-trustees-meeting-2
END:VEVENT
END:VCALENDAR