BEGIN:VCALENDAR
VERSION:2.0
PRODID:-//hacksw/handcal//NONSGML v1.0//EN
CALSCALE:GREGORIAN
BEGIN:VTIMEZONE
TZID:America/New_York
BEGIN:DAYLIGHT
TZOFFSETFROM:-0600
TZNAME:MDT
TZOFFSETTO:-0600
END:DAYLIGHT
END:VTIMEZONE
DTSTAMP:20260422T061025Z
UID:69e89e912c392
BEGIN:VEVENT
LOCATION:Clarksburg-Harrison Public Library, 404 W. Pike St., Clarksburg, WV 26301
DESCRIPTION:<p>Ready For Kindergarten Story Time&nbsp;</p><p>Time 11:00-11:30.&nbsp;</p><p>This program is for ages 2-6 years.&nbsp;</p><p>Your child will learn how to use books, rhyme and sing songs. This program is to help your child get ready for kindergarten. We will practice kindergarten skills such as writing letters, cutting with scissors, learning letters and so much more.&nbsp;</p><p>Any questions please contact me at 3046272236 ext 214.&nbsp;</p>
DTSTART;TZID=America/New_York:20260429T110000
DTEND;TZID=America/New_York:20260429T113000
SUMMARY:Ready for Kindergarten 
URL;VALUE=URI:/ready-kindergarten-12
END:VEVENT
END:VCALENDAR