BEGIN:VCALENDAR
VERSION:2.0
PRODID:-//hacksw/handcal//NONSGML v1.0//EN
CALSCALE:GREGORIAN
BEGIN:VTIMEZONE
TZID:America/New_York
BEGIN:DAYLIGHT
TZOFFSETFROM:-0600
TZNAME:MDT
TZOFFSETTO:-0600
END:DAYLIGHT
END:VTIMEZONE
DTSTAMP:20260422T075026Z
UID:69e8b602098ba
BEGIN:VEVENT
LOCATION:Clarksburg-Harrison Public Library, 404 W. Pike St., Clarksburg, WV 26301
DESCRIPTION:<p>Let's Read -Book Club&nbsp;</p><p>Ages 7-11</p><p>Time 5:00-6:00</p><p>This book club meets on the fourth Tuesday</p><p>Come in and get the book we are reading this spring. We will meet in the children's area for an hour and discuss, read together and do some fun activities that pertain to the book. Any questions please feel free to contact me at 3046272236 ext 214</p>
DTSTART;TZID=America/New_York:20260526T170000
DTEND;TZID=America/New_York:20260526T180000
SUMMARY:Let's Read-Book Club 
URL;VALUE=URI:/lets-read-book-club-2
END:VEVENT
END:VCALENDAR