BEGIN:VCALENDAR
VERSION:2.0
PRODID:-//hacksw/handcal//NONSGML v1.0//EN
CALSCALE:GREGORIAN
BEGIN:VTIMEZONE
TZID:America/New_York
BEGIN:DAYLIGHT
TZOFFSETFROM:-0600
TZNAME:MDT
TZOFFSETTO:-0600
END:DAYLIGHT
END:VTIMEZONE
DTSTAMP:20260423T061409Z
UID:69e9f0f1a433a
BEGIN:VEVENT
LOCATION:Clarksburg-Harrison Public Library, 404 W. Pike St., Clarksburg, WV 26301
DESCRIPTION:<p>Take A Craft</p><p>Time 3:00-4:30</p><p>Ages 2-11</p><p>Come in and get a craft and take it home and do it whenever you would like. Registration is required. Any questions please feel free to contact me at 3046272236 ext 214.&nbsp;</p>
DTSTART;TZID=America/New_York:20260414T150000
DTEND;TZID=America/New_York:20260414T163000
SUMMARY:Take A Craft 
URL;VALUE=URI:/take-craft-2
END:VEVENT
END:VCALENDAR