BEGIN:VCALENDAR
VERSION:2.0
PRODID:-//hacksw/handcal//NONSGML v1.0//EN
CALSCALE:GREGORIAN
BEGIN:VTIMEZONE
TZID:America/New_York
BEGIN:DAYLIGHT
TZOFFSETFROM:-0600
TZNAME:MDT
TZOFFSETTO:-0600
END:DAYLIGHT
END:VTIMEZONE
DTSTAMP:20260423T075332Z
UID:69ea083c765f6
BEGIN:VEVENT
LOCATION:Clarksburg-Harrison Public Library, 404 W. Pike St., Clarksburg, WV 26301
DESCRIPTION:<p>Playtime</p><p>Time 11:30-1:00&nbsp;</p><p>Ages 2-5</p><p>This program is for toddlers to get together and socialize. Your child will play with a variety of toys in a stimulating and social environment. Bring your child and watch them have fun with others. Registration is required. A snack will be provided. Any questions feel free to contact Ms. Erica at 3046272236 ext 214.&nbsp;</p>
DTSTART;TZID=America/New_York:20260518T113000
DTEND;TZID=America/New_York:20260518T130000
SUMMARY:Playtime 
URL;VALUE=URI:/playtime-12
END:VEVENT
END:VCALENDAR