BEGIN:VCALENDAR
VERSION:2.0
PRODID:-//hacksw/handcal//NONSGML v1.0//EN
CALSCALE:GREGORIAN
BEGIN:VTIMEZONE
TZID:America/New_York
BEGIN:DAYLIGHT
TZOFFSETFROM:-0600
TZNAME:MDT
TZOFFSETTO:-0600
END:DAYLIGHT
END:VTIMEZONE
DTSTAMP:20260420T102127Z
UID:69e63667566e0
BEGIN:VEVENT
LOCATION:Clarksburg-Harrison Public Library, 404 W. Pike St., Clarksburg, WV 26301
DESCRIPTION:<p style="-webkit-text-stroke-width:0px;background-color:rgb(255, 255, 255);box-sizing:inherit;color:rgb(65, 65, 65);font-family:&quot;Open Sans&quot;;font-size:16px;font-style:normal;font-variant-caps:normal;font-variant-ligatures:normal;font-weight:400;letter-spacing:normal;line-height:1.8;margin:0px 0px 1.3rem;orphans:2;padding:0px;text-align:start;text-decoration-color:initial;text-decoration-style:initial;text-decoration-thickness:initial;text-indent:0px;text-rendering:optimizelegibility;text-transform:none;white-space:normal;widows:2;word-spacing:0px;">Come play board games with others who also love board games! We will be playing a different game on the First Thursday of each month! Come learn and see different types of games whether it be strategic, party, or even just flat out silly!</p><p style="-webkit-text-stroke-width:0px;background-color:rgb(255, 255, 255);box-sizing:inherit;color:rgb(65, 65, 65);font-family:&quot;Open Sans&quot;;font-size:16px;font-style:normal;font-variant-caps:normal;font-variant-ligatures:normal;font-weight:400;letter-spacing:normal;line-height:1.8;margin:0px;orphans:2;padding:0px;text-align:start;text-decoration-color:initial;text-decoration-style:initial;text-decoration-thickness:initial;text-indent:0px;text-rendering:optimizelegibility;text-transform:none;white-space:normal;widows:2;word-spacing:0px;">19+ event. Please register to secure a spot.</p>
DTSTART;TZID=America/New_York:20251106T170000
DTEND;TZID=America/New_York:20251106T190000
SUMMARY:Board Game Club
URL;VALUE=URI:/board-game-club-6
END:VEVENT
END:VCALENDAR