BEGIN:VCALENDAR
VERSION:2.0
PRODID:-//hacksw/handcal//NONSGML v1.0//EN
CALSCALE:GREGORIAN
BEGIN:VTIMEZONE
TZID:America/New_York
BEGIN:DAYLIGHT
TZOFFSETFROM:-0600
TZNAME:MDT
TZOFFSETTO:-0600
END:DAYLIGHT
END:VTIMEZONE
DTSTAMP:20260419T084524Z
UID:69e4ce6406c71
BEGIN:VEVENT
LOCATION:Salem Library, 2265 W Main St, Suite 105, Salem, WV US 26426
DESCRIPTION:<p><em><span style="-webkit-text-stroke-width:0px;background-color:rgb(255, 255, 255);color:rgb(28, 43, 51);display:inline !important;float:none;font-family:-apple-system, BlinkMacSystemFont, &quot;Segoe UI&quot;, Roboto, Helvetica, Arial, sans-serif, &quot;Apple Color Emoji&quot;, &quot;Segoe UI Emoji&quot;, &quot;Segoe UI Symbol&quot;;font-size:14px;font-style:normal;font-variant-caps:normal;font-variant-ligatures:normal;font-weight:400;letter-spacing:normal;orphans:2;text-align:left;text-decoration-color:initial;text-decoration-style:initial;text-decoration-thickness:initial;text-indent:0px;text-transform:none;white-space:pre-wrap;widows:2;word-spacing:0px;"><strong>Teens, tweens, and kids! We want to hear from you!</strong></span></em></p><p><em><span style="-webkit-text-stroke-width:0px;background-color:rgb(255, 255, 255);color:rgb(28, 43, 51);display:inline !important;float:none;font-family:-apple-system, BlinkMacSystemFont, &quot;Segoe UI&quot;, Roboto, Helvetica, Arial, sans-serif, &quot;Apple Color Emoji&quot;, &quot;Segoe UI Emoji&quot;, &quot;Segoe UI Symbol&quot;;font-size:14px;font-style:normal;font-variant-caps:normal;font-variant-ligatures:normal;font-weight:400;letter-spacing:normal;orphans:2;text-align:left;text-decoration-color:initial;text-decoration-style:initial;text-decoration-thickness:initial;text-indent:0px;text-transform:none;white-space:pre-wrap;widows:2;word-spacing:0px;"><strong> </strong></span></em><span style="-webkit-text-stroke-width:0px;background-color:rgb(255, 255, 255);color:rgb(28, 43, 51);display:inline !important;float:none;font-family:-apple-system, BlinkMacSystemFont, &quot;Segoe UI&quot;, Roboto, Helvetica, Arial, sans-serif, &quot;Apple Color Emoji&quot;, &quot;Segoe UI Emoji&quot;, &quot;Segoe UI Symbol&quot;;font-size:14px;font-style:normal;font-variant-caps:normal;font-variant-ligatures:normal;font-weight:400;letter-spacing:normal;orphans:2;text-align:left;text-decoration-color:initial;text-decoration-style:initial;text-decoration-thickness:initial;text-indent:0px;text-transform:none;white-space:pre-wrap;widows:2;word-spacing:0px;">Join us at the Salem Library for our first ever program collaborative on August 1st at noon.  We will discuss and plan programs you would like for the fall, together! Snacks and board games will also be available for after our meeting! Hope to see you there!</span></p>
DTSTART;TZID=America/New_York:20250801T120000
DTEND;TZID=America/New_York:20250801T130000
SUMMARY:Teen, Tween and Kids Program Collaborative - Salem
URL;VALUE=URI:/teen-tween-and-kids-program-collaborative-salem-0
END:VEVENT
END:VCALENDAR