BEGIN:VCALENDAR
VERSION:2.0
PRODID:-//hacksw/handcal//NONSGML v1.0//EN
CALSCALE:GREGORIAN
BEGIN:VTIMEZONE
TZID:America/New_York
BEGIN:DAYLIGHT
TZOFFSETFROM:-0600
TZNAME:MDT
TZOFFSETTO:-0600
END:DAYLIGHT
END:VTIMEZONE
DTSTAMP:20260423T044341Z
UID:69e9dbbd4b5bc
BEGIN:VEVENT
DESCRIPTION:<p>Miss the classics? We are having an Atari, a Nintendo 64, and a Nintendo Wii available for play! Come on down and play multiple classics from these great consoles.</p>

<p>Ages: 11-18</p>

<p>Please register to secure a spot.</p>

DTSTART;TZID=America/New_York:20250708T160000
DTEND;TZID=America/New_York:20250708T190000
SUMMARY:Consoles of the Past
URL;VALUE=URI:/consoles-past-2
END:VEVENT
END:VCALENDAR