BEGIN:VCALENDAR
VERSION:2.0
PRODID:-//hacksw/handcal//NONSGML v1.0//EN
CALSCALE:GREGORIAN
BEGIN:VTIMEZONE
TZID:America/New_York
BEGIN:DAYLIGHT
TZOFFSETFROM:-0600
TZNAME:MDT
TZOFFSETTO:-0600
END:DAYLIGHT
END:VTIMEZONE
DTSTAMP:20260423T044330Z
UID:69e9dbb2acd48
BEGIN:VEVENT
DESCRIPTION:<p>Scavenger Hunt</p>

<p>Time : 4:00-4:30</p>

<p>Ages 5-11</p>

<p>Come in at any time and do a scavenger hunt in the library. Each week the scavenger hunt is based on a different theme. Registration is required. Any questions feel free to contact me at <a href="tel:3046272236">3046272236</a> ext 214.&nbsp;</p>

DTSTART;TZID=America/New_York:20250317T160000
DTEND;TZID=America/New_York:20250317T163000
SUMMARY:Scavenger Hunt
URL;VALUE=URI:/scavenger-hunt-12
END:VEVENT
END:VCALENDAR