BEGIN:VCALENDAR
VERSION:2.0
PRODID:-//hacksw/handcal//NONSGML v1.0//EN
CALSCALE:GREGORIAN
BEGIN:VTIMEZONE
TZID:America/New_York
BEGIN:DAYLIGHT
TZOFFSETFROM:-0600
TZNAME:MDT
TZOFFSETTO:-0600
END:DAYLIGHT
END:VTIMEZONE
DTSTAMP:20260423T021621Z
UID:69e9b935c6856
BEGIN:VEVENT
DESCRIPTION:<p>Little Science Explorers 1030-11 ages 3-5. This program will get your toddler to start thinking about science. They will learn to investigate and come up with hypothesis about every science experiment we do. Registration is required.&nbsp;</p>

DTSTART;TZID=America/New_York:20250114T103000
DTEND;TZID=America/New_York:20250114T110000
SUMMARY:Little Science Explorers
URL;VALUE=URI:/events/series/1322
END:VEVENT
END:VCALENDAR