BEGIN:VCALENDAR
VERSION:2.0
PRODID:-//hacksw/handcal//NONSGML v1.0//EN
CALSCALE:GREGORIAN
BEGIN:VTIMEZONE
TZID:America/New_York
BEGIN:DAYLIGHT
TZOFFSETFROM:-0600
TZNAME:MDT
TZOFFSETTO:-0600
END:DAYLIGHT
END:VTIMEZONE
DTSTAMP:20260422T064358Z
UID:69e8a66edc147
BEGIN:VEVENT
DESCRIPTION:<p style="list-style-type:none"><span style="font-size:12pt"><span style="background:white"><span style="font-family:&quot;Times New Roman&quot;,serif"><span style="font-family:&quot;Open Sans&quot;,serif"><span style="color:#414141">Come learn coding in a fun and easy way! These little bots use colors for their codes, and you can draw the codes yourself!</span></span></span></span></span></p>

<p style="list-style-type:none"><span style="font-size:12pt"><span style="background:white"><span style="font-family:&quot;Times New Roman&quot;,serif"><span style="font-family:&quot;Open Sans&quot;,serif"><span style="color:#414141">Teen event. (13-18)</span></span></span></span></span><br />
<span style="font-size:12pt"><span style="background:white"><span style="font-family:&quot;Times New Roman&quot;,serif"><span style="font-family:&quot;Open Sans&quot;,serif"><span style="color:#414141">Register the event to secure a spot.</span></span></span></span></span><br />
<span style="font-size:12pt"><span style="background:white"><span style="font-family:&quot;Times New Roman&quot;,serif"><span style="font-family:&quot;Open Sans&quot;,serif"><span style="color:#414141">This event will be held in the Digital Den on the second floor.</span></span></span></span></span></p>

DTSTART;TZID=America/New_York:20241202T160000
DTEND;TZID=America/New_York:20241202T180000
SUMMARY:Ozobots
URL;VALUE=URI:/ozobots-2
END:VEVENT
END:VCALENDAR