BEGIN:VCALENDAR
VERSION:2.0
PRODID:-//hacksw/handcal//NONSGML v1.0//EN
CALSCALE:GREGORIAN
BEGIN:VTIMEZONE
TZID:America/New_York
BEGIN:DAYLIGHT
TZOFFSETFROM:-0600
TZNAME:MDT
TZOFFSETTO:-0600
END:DAYLIGHT
END:VTIMEZONE
DTSTAMP:20260423T044525Z
UID:69e9dc252564e
BEGIN:VEVENT
DESCRIPTION:<p>Homework Help&nbsp; is for ages 5 to 10. This program starts at 4-6pm. Need assistance with homework sign up for 30 minutes, Please bring books and materials that you are working on with homework. This is not a tutoring service!. Registration is required. Any questions please feel free to contact me at <a href="tel:3046272236">3046272236</a> ext 214</p>

<p>There is a time from <a href="tel:4-430 /430-5/ 5-530">4-430 /430-5/ 5-530</a>/ and 530-6&nbsp;</p>

DTSTART;TZID=America/New_York:20240930T160000
DTEND;TZID=America/New_York:20240930T180000
SUMMARY:Homework Help 
URL;VALUE=URI:/events/series/1168
END:VEVENT
END:VCALENDAR